BEGIN:VCALENDAR
VERSION:2.0
PRODID:-//Centrum Informacji Turystycznej - ECPv6.2.9//NONSGML v1.0//EN
CALSCALE:GREGORIAN
METHOD:PUBLISH
X-ORIGINAL-URL:https://wroclaw-info.pl
X-WR-CALDESC:Events for Centrum Informacji Turystycznej
REFRESH-INTERVAL;VALUE=DURATION:PT1H
X-Robots-Tag:noindex
X-PUBLISHED-TTL:PT1H
BEGIN:VTIMEZONE
TZID:UTC
BEGIN:STANDARD
TZOFFSETFROM:+0000
TZOFFSETTO:+0000
TZNAME:UTC
DTSTART:20210101T000000
END:STANDARD
END:VTIMEZONE
BEGIN:VEVENT
DTSTART;TZID=UTC:20211004T190000
DTEND;TZID=UTC:20211004T210000
DTSTAMP:20260424T073439
CREATED:20211003T190600Z
LAST-MODIFIED:20211003T190600Z
UID:1107-1633374000-1633381200@wroclaw-info.pl
SUMMARY:Koncert jubileuszowy w Synagodze
DESCRIPTION:W 2021 roku przypada jubileusz 25-lecia działalności artystycznej Chóru Synagogi Pod Białym Bocianem we Wrocławiu. To niepowtarzalna okazja aby usłyszeć – pod dyrekcją Stanisława Rybarczyka – wykonania jedynego chóru synagogalnego w Polsce. Zaproszenie do udziału w koncercie przyjęli również znakomici muzycy m.in: Anna Maria Jopek\, kantor Yoni Rose\, Piotr Wojtasik oraz Symfoniczna Orkiestra Jubileuszowa. To będzie wieczór pełen niezapomnianych wrażeń!
URL:https://wroclaw-info.pl/wydarzenie/koncert-jubileuszowy-w-synagodze/
LOCATION:Synagoga pod Białym Bocianem\, Włodkowica 7\, Wrocław
ATTACH;FMTTYPE=image/jpeg:https://wroclaw-info.pl/wp-content/uploads/2021/10/8ykv.jpeg
END:VEVENT
BEGIN:VEVENT
DTSTART;TZID=UTC:20211004T200000
DTEND;TZID=UTC:20211004T220000
DTSTAMP:20260424T073439
CREATED:20211003T183926Z
LAST-MODIFIED:20211003T184754Z
UID:1091-1633377600-1633384800@wroclaw-info.pl
SUMMARY:Koncert na inaugurację Tęsknoty – Lęki – Spotkania
DESCRIPTION:Koncert pod patronatem Narodowego Forum Muzyki. Ze względu na ograniczenia sanitarno-epidemiologiczne liczba miejsc na wydarzenia 4.10 i 25.10. jest ograniczona i obowiązują zapisy poprzez ten adres: www.ossolineum.pl/zapisy.\n\nProgram:\nJ.S. Bach Liebster Gott\, wenn werd ich sterben? – kantata BWV 8\, Wer weiß\, wie nahe mir mein Ende? – kantata BWV 27 
URL:https://wroclaw-info.pl/wydarzenie/koncert-na-inauguracje-tesknoty-leki-spotkania/
LOCATION:Ossolineum\, ul. Szewska 37\, Wrocław\, Poland
ATTACH;FMTTYPE=image/png:https://wroclaw-info.pl/wp-content/uploads/2021/10/Projekt-bez-tytulu.png
END:VEVENT
END:VCALENDAR