BEGIN:VCALENDAR
VERSION:2.0
PRODID:-//Centrum Informacji Turystycznej - ECPv6.2.9//NONSGML v1.0//EN
CALSCALE:GREGORIAN
METHOD:PUBLISH
X-ORIGINAL-URL:https://wroclaw-info.pl
X-WR-CALDESC:Events for Centrum Informacji Turystycznej
REFRESH-INTERVAL;VALUE=DURATION:PT1H
X-Robots-Tag:noindex
X-PUBLISHED-TTL:PT1H
BEGIN:VTIMEZONE
TZID:UTC
BEGIN:STANDARD
TZOFFSETFROM:+0000
TZOFFSETTO:+0000
TZNAME:UTC
DTSTART:20210101T000000
END:STANDARD
END:VTIMEZONE
BEGIN:VEVENT
DTSTART;TZID=UTC:20211006T200000
DTEND;TZID=UTC:20211006T220000
DTSTAMP:20260424T072208
CREATED:20211003T192247Z
LAST-MODIFIED:20211003T201140Z
UID:1112-1633550400-1633557600@wroclaw-info.pl
SUMMARY:Urodziny Agnieszki Osieckiej - koncert w Starym Klasztorze
DESCRIPTION:Ethno Jazz Festival zaprasza na koncert „Osiecka-Jazzowo”. Jest to muzyczny projekt znanego wrocławskiego muzyka Krzysztofa Żesławskiego współpracującego z zespołami Tax Free i Wolna Grupa Bukowina\, który do współpracy zaprosił charyzmatyczną wokalistkę Natalię Lubrano. \n\nW skład zespołu Krzysztof Żesławski Quartet & Natalia Lubrano wchodzą :\nNatalia Lubrano – śpiew\nKrzysztof Żesławski – gitary\nPiotr Dziubek – fortepian\, akordeon\nWojtek Bergander – kontrabas\nWojciech Buliński – perkusja
URL:https://wroclaw-info.pl/wydarzenie/urodziny-agnieszki-osieckiej-koncert-w-starym-klasztorze/
LOCATION:Stary Klasztor\, Purkyniego 1\, Wrocław
ATTACH;FMTTYPE=image/jpeg:https://wroclaw-info.pl/wp-content/uploads/2021/10/agnieszka-osiecka-1977-r.jpg
END:VEVENT
END:VCALENDAR