BEGIN:VCALENDAR
VERSION:2.0
PRODID:-//Centrum Informacji Turystycznej - ECPv6.2.9//NONSGML v1.0//EN
CALSCALE:GREGORIAN
METHOD:PUBLISH
X-WR-CALNAME:Centrum Informacji Turystycznej
X-ORIGINAL-URL:https://wroclaw-info.pl
X-WR-CALDESC:Events for Centrum Informacji Turystycznej
REFRESH-INTERVAL;VALUE=DURATION:PT1H
X-Robots-Tag:noindex
X-PUBLISHED-TTL:PT1H
BEGIN:VTIMEZONE
TZID:UTC
BEGIN:STANDARD
TZOFFSETFROM:+0000
TZOFFSETTO:+0000
TZNAME:UTC
DTSTART:20210101T000000
END:STANDARD
END:VTIMEZONE
BEGIN:VEVENT
DTSTART;TZID=UTC:20211007T190000
DTEND;TZID=UTC:20211008T190000
DTSTAMP:20260424T071858
CREATED:20211003T195035Z
LAST-MODIFIED:20211003T195211Z
UID:1126-1633633200-1633719600@wroclaw-info.pl
SUMMARY:Mock. Czarna burleska - spektakl w Teatrze Muzycznym Capitol
DESCRIPTION:Mock. Czarna burleska to spektakl na motywach powieści Marka Krajewskiego o komisarzu Eberhardzie Mocku. Bohaterowi słynnej serii kryminałów towarzyszą na Dużej Scenie policjanci\, bandyci\, szaleńcy i prostytutki – to one poprowadzą burleskowy show o władzy\, zbrodni i namiętnościach. \nW spektaklu nie ma scen mówionych\, całość jest śpiewana. Kilkanaście songów przedstawia osobne historie z życia komisarza Mocka\, inspirowane kolejnymi powieściami Marka Krajewskiego.
URL:https://wroclaw-info.pl/wydarzenie/mock-czarna-burleska-spektakl-w-teatrze-muzycznym-capitol/
LOCATION:Teatr Muzyczny Capitol\, Piłsudskiego 67\, Wrocław\, Poland
ATTACH;FMTTYPE=image/jpeg:https://wroclaw-info.pl/wp-content/uploads/2021/10/00125-Capitol-MOCK-fot-Lukasz-Giza_1.jpg
END:VEVENT
BEGIN:VEVENT
DTSTART;TZID=UTC:20211008T070000
DTEND;TZID=UTC:20211008T200000
DTSTAMP:20260424T071858
CREATED:20211003T185657Z
LAST-MODIFIED:20211003T185657Z
UID:1103-1633676400-1633723200@wroclaw-info.pl
SUMMARY:Letnie koncerty operowe
DESCRIPTION:Pozwól się zaprosić do magicznego ogrodu subtelnych dźwięków\, gdzie pośród wielobarwnych kantylen – bujnych kaskad najwonniejszych kwiatów – odnajdziesz rozkosz i ukojenie! Usłysz szmer strumienia mieniącego się niezliczonymi kolorami\, które wydobyć z siebie może ludzki głos! Połóż się na miękkim dywanie falujących traw olśniewającej muzykalności i zobacz jak perląca się w delikatnych pianach rosa migocze wśród upojnych crescend łagodnego wiatru muskającego rozświetlone wiosennym słońcem liście… Wejdź do zaczarowanego ogrodu urzekającej muzyki!!!\nZnakomite wykonanie artystki wraz z towarzyszeniem fortepianu\, która wystąpi w różnorodnym repertuarze pieśniarskim i operowym\, prezentując ciekawe i niebanalne interpretacje utworów klasycznych\, cieszących się nieprzemijającą popularnością”.\nW takcie koncertu będzie można usłyszeć najbardziej znane utwory operowe i pieśniarskie takich kompozytorów: G. Verdi\, A. Dvorak\, G. Puccini\, W.A. Mozart\, Fr. Schubert\, Fr. Chopin\, St. Moniuszko.
URL:https://wroclaw-info.pl/wydarzenie/letnie-koncerty-operowe/
LOCATION:Katedra pw. św. Marii Magdaleny\, Szewska 10\, Wrocław
ATTACH;FMTTYPE=image/jpeg:https://wroclaw-info.pl/wp-content/uploads/2021/10/8uya.jpeg
END:VEVENT
BEGIN:VEVENT
DTSTART;TZID=UTC:20211008T180000
DTEND;TZID=UTC:20211008T200000
DTSTAMP:20260424T071858
CREATED:20211003T193113Z
LAST-MODIFIED:20211003T193113Z
UID:1116-1633716000-1633723200@wroclaw-info.pl
SUMMARY:Teresa Werner - koncert "Sekret Miłości"
DESCRIPTION:Teresa Werner to polska piosenkarka pochodząca z Nakła Śląskiego. Pojawiła się na scenach największych teatrów świata\, w tym m.in. Carnegie Hall oraz Broadway. Jej występy obejmowały Europę\, Afrykę\, Azję oraz Amerykę Północną. W 1991 roku Teresa Werner reprezentowała zespół „Śląsk” na Festiwalu Piosenki Ludowej w RPA\, gdzie zajęła pierwsze miejsce. Jej kariera solowa przyspieszyła po nagraniu takich hitów jak „Miłość jest piękna”\, „Dałabym Ci dała” czy „Kocham swoje morze”. Jej kompozycje oraz teledyski są emitowane na antenach stacji radiowych i telewizyjnych. \nCzytaj więcej na: https://www.kupbilecik.pl/imprezy/55393/Wroc%C5%82aw/Teresa+Werner/
URL:https://wroclaw-info.pl/wydarzenie/teresa-werner-koncert-sekret-milosci/
LOCATION:Sala Koncertowa Radia Wrocław\, al. Karkonoska 10\, Wrocław
END:VEVENT
BEGIN:VEVENT
DTSTART;TZID=UTC:20211008T190000
DTEND;TZID=UTC:20211008T210000
DTSTAMP:20260424T071858
CREATED:20211003T193601Z
LAST-MODIFIED:20211003T193601Z
UID:1120-1633719600-1633726800@wroclaw-info.pl
SUMMARY:Elīna Garanča w NFM - koncert muzyki operowej
DESCRIPTION:Program: \n\nM. Glinka Uwertura do opery Rusłan and Ludmiła\nP. Czajkowski Prostite vy\, holmy\, polya rodnye – aria Joanny z opery Dziewica Orleańska\nJ. Massenet Medytacje z opery Thaïs\nC. Saint-Saëns Mon coeur s’ouvre à ta voix – aria Dalili oraz Bacchanale z opery Samson i Dalila\nCh. Gounod Plus grand\, dans son obscurité – cavatina Balkis z opery La reine de Saba \n***\nP. Marquinia España cañí\nS. Lope Gerona\nM. Penella Pasodoble z opery El gato montés\nG. Bizet – arie i fragmenty instrumentalne z opery Carmen \nWykonawcy: \n\nKarel Mark Chichon – dyrygent\nElīna Garanča – mezzosopran\nNFM Filharmonia Wrocławska
URL:https://wroclaw-info.pl/wydarzenie/elina-garanca-w-nfm-koncert-muzyki-operowej/
LOCATION:Narodowe Forum Muzyki\, plac Wolności 1\, Wrocław
ATTACH;FMTTYPE=image/png:https://wroclaw-info.pl/wp-content/uploads/2021/10/Projekt-bez-tytulu.png
END:VEVENT
END:VCALENDAR