BEGIN:VCALENDAR
VERSION:2.0
PRODID:-//Centrum Informacji Turystycznej - ECPv6.2.9//NONSGML v1.0//EN
CALSCALE:GREGORIAN
METHOD:PUBLISH
X-WR-CALNAME:Centrum Informacji Turystycznej
X-ORIGINAL-URL:https://wroclaw-info.pl
X-WR-CALDESC:Events for Centrum Informacji Turystycznej
REFRESH-INTERVAL;VALUE=DURATION:PT1H
X-Robots-Tag:noindex
X-PUBLISHED-TTL:PT1H
BEGIN:VTIMEZONE
TZID:UTC
BEGIN:STANDARD
TZOFFSETFROM:+0000
TZOFFSETTO:+0000
TZNAME:UTC
DTSTART:20210101T000000
END:STANDARD
END:VTIMEZONE
BEGIN:VEVENT
DTSTART;TZID=UTC:20211009T180000
DTEND;TZID=UTC:20211009T190000
DTSTAMP:20260424T123818
CREATED:20211003T200826Z
LAST-MODIFIED:20211003T200826Z
UID:1136-1633802400-1633806000@wroclaw-info.pl
SUMMARY:Różewicz in memoriam - Koncert do tekstów Tadeusza Różewicza
DESCRIPTION:„Z okazji obchodów Roku Różewicza we Wrocławiu oraz urodzin Mistrza\, Centrum Kultury Agora zaprasza na wyjątkowy koncert Karoliny Cichej\, która przełożyła poezję Pisarza na różnorodne języki muzyki. Nietuzinkowa płyta DO LUDOŻERCÓW\, której zawartość zaprezentuje na naszej scenie Cicha\, jest efektem pracy piosenkarki i literaturoznawczyni nad materiałem poetycko-muzycznym pod okiem samego Różewicza.”
URL:https://wroclaw-info.pl/wydarzenie/rozewicz-in-memoriam-koncert-do-tekstow-tadeusza-rozewicza/
LOCATION:Centrum Kultury Agora\, Serbska 5A\, Wrocław
ATTACH;FMTTYPE=image/jpeg:https://wroclaw-info.pl/wp-content/uploads/2021/10/8y11.jpeg
END:VEVENT
BEGIN:VEVENT
DTSTART;TZID=UTC:20211009T180000
DTEND;TZID=UTC:20211009T200000
DTSTAMP:20260424T123818
CREATED:20211003T195420Z
LAST-MODIFIED:20211003T195420Z
UID:1131-1633802400-1633809600@wroclaw-info.pl
SUMMARY:Mock. Czarna burleska – spektakl w Teatrze Muzycznym Capitol
DESCRIPTION:Mock. Czarna burleska to spektakl na motywach powieści Marka Krajewskiego o komisarzu Eberhardzie Mocku. Bohaterowi słynnej serii kryminałów towarzyszą na Dużej Scenie policjanci\, bandyci\, szaleńcy i prostytutki – to one poprowadzą burleskowy show o władzy\, zbrodni i namiętnościach. \nW spektaklu nie ma scen mówionych\, całość jest śpiewana. Kilkanaście songów przedstawia osobne historie z życia komisarza Mocka\, inspirowane kolejnymi powieściami Marka Krajewskiego.
URL:https://wroclaw-info.pl/wydarzenie/mock-czarna-burleska-spektakl-w-teatrze-muzycznym-capitol-2/
LOCATION:Teatr Muzyczny Capitol\, Piłsudskiego 67\, Wrocław\, Poland
ATTACH;FMTTYPE=image/jpeg:https://wroclaw-info.pl/wp-content/uploads/2021/10/00125-Capitol-MOCK-fot-Lukasz-Giza_1.jpg
END:VEVENT
BEGIN:VEVENT
DTSTART;TZID=UTC:20211009T200000
DTEND;TZID=UTC:20211009T220000
DTSTAMP:20260424T123818
CREATED:20211003T200350Z
LAST-MODIFIED:20211003T200923Z
UID:1133-1633809600-1633816800@wroclaw-info.pl
SUMMARY:Koncert Szantowy w Starym Klasztorze
DESCRIPTION:W Sali Gotyckiej zagra sprawdzona już ekipa koncertowa – Mechanicy Shanty oraz EKT – Gdynia.\nTen zestaw gwiazd gwarantuje najlepszą szantową zabawę – można będzie śpiewać i tańczyć do później nocy\, nie zabraknie też okazji do spotkania znajomych z wakacyjnych rejsów i do powspominania żeglarskich przygód.
URL:https://wroclaw-info.pl/wydarzenie/koncert-szantowy-w-starym-klasztorze/
LOCATION:Stary Klasztor\, Purkyniego 1\, Wrocław
ATTACH;FMTTYPE=image/jpeg:https://wroclaw-info.pl/wp-content/uploads/2021/10/8xq7.jpeg
END:VEVENT
END:VCALENDAR