BEGIN:VCALENDAR
VERSION:2.0
PRODID:-//Centrum Informacji Turystycznej - ECPv6.2.9//NONSGML v1.0//EN
CALSCALE:GREGORIAN
METHOD:PUBLISH
X-WR-CALNAME:Centrum Informacji Turystycznej
X-ORIGINAL-URL:https://wroclaw-info.pl
X-WR-CALDESC:Events for Centrum Informacji Turystycznej
REFRESH-INTERVAL;VALUE=DURATION:PT1H
X-Robots-Tag:noindex
X-PUBLISHED-TTL:PT1H
BEGIN:VTIMEZONE
TZID:UTC
BEGIN:STANDARD
TZOFFSETFROM:+0000
TZOFFSETTO:+0000
TZNAME:UTC
DTSTART:20210101T000000
END:STANDARD
END:VTIMEZONE
BEGIN:VEVENT
DTSTART;TZID=UTC:20211013T170000
DTEND;TZID=UTC:20211013T180000
DTSTAMP:20260424T134647
CREATED:20211013T202208Z
LAST-MODIFIED:20211013T202208Z
UID:1148-1634144400-1634148000@wroclaw-info.pl
SUMMARY:WYSTAWA HYBRID-IN. Zwiedzanie z przewodnikiem
DESCRIPTION:ZAPISY: Na oprowadzania obowiązują zapisy na adres mailowy: a.kalinowska@bwa.wroc.pl. W tytule wiadomości prosimy wpisać „Oprowadzanie”\, a w treści maila datę i imię i nazwisko. \nWystawa sztuki z Czech\, Polski i Słowacji mówi o hybrydycznym obliczu współczesności na tle potransformacyjnego środkowoeuropejskiego krajobrazu. Pokaz skupia się na przemianach\, jakim podlegają dziś przestrzenie eksploatacji\, określane niegdyś jako przemysłowe. Tematem artystów są zachodzące w nich dziś procesy hybrydyzacji\, obejmujące zmiany\, które\, mimo że dotyczą wszystkich\, nie czynią świata bardziej zrozumiałym\, ani bardziej przejrzystym.
URL:https://wroclaw-info.pl/wydarzenie/wystawa-hybrid-in-zwiedzanie-z-przewodnikiem/
LOCATION:Dworzec Główny PKP\, Piłsudskiego 105\, Wrocław
ATTACH;FMTTYPE=image/png:https://wroclaw-info.pl/wp-content/uploads/2021/10/8zoh.png
END:VEVENT
BEGIN:VEVENT
DTSTART;TZID=UTC:20211013T200000
DTEND;TZID=UTC:20211013T220000
DTSTAMP:20260424T134647
CREATED:20211013T194344Z
LAST-MODIFIED:20211013T194344Z
UID:1145-1634155200-1634162400@wroclaw-info.pl
SUMMARY:Koncert Lola Marsh
DESCRIPTION:Lola Marsh\, aka wokalistka Yael Shoshana Cohen i multiinstrumentalista Gil Landau\, to niezwykły duet\, łączący doskonałe teksty z ciepłymi harmoniami. Na scenie usłyszymy\, przede wszystkim\, utwory z debiutanckiego albumu “Someday Tomorrow Maybe”\, wydanego na początku 2020 roku. Główną inspiracją do powstania płyty była ewolucja związku muzyków – od współpracowników do romantycznych partnerów.
URL:https://wroclaw-info.pl/wydarzenie/koncert-lola-marsh/
LOCATION:Stary Klasztor\, Purkyniego 1\, Wrocław
ATTACH;FMTTYPE=image/png:https://wroclaw-info.pl/wp-content/uploads/2021/10/8mfb-1.png
END:VEVENT
END:VCALENDAR