BEGIN:VCALENDAR
VERSION:2.0
PRODID:-//Centrum Informacji Turystycznej - ECPv6.2.9//NONSGML v1.0//EN
CALSCALE:GREGORIAN
METHOD:PUBLISH
X-ORIGINAL-URL:https://wroclaw-info.pl
X-WR-CALDESC:Events for Centrum Informacji Turystycznej
REFRESH-INTERVAL;VALUE=DURATION:PT1H
X-Robots-Tag:noindex
X-PUBLISHED-TTL:PT1H
BEGIN:VTIMEZONE
TZID:UTC
BEGIN:STANDARD
TZOFFSETFROM:+0000
TZOFFSETTO:+0000
TZNAME:UTC
DTSTART:20210101T000000
END:STANDARD
END:VTIMEZONE
BEGIN:VEVENT
DTSTART;TZID=UTC:20211014T190000
DTEND;TZID=UTC:20211014T200000
DTSTAMP:20260424T160524
CREATED:20211013T202600Z
LAST-MODIFIED:20211013T202600Z
UID:1152-1634238000-1634241600@wroclaw-info.pl
SUMMARY:Andrzej Boreyko i Orkiestra Filharmonii Narodowej
DESCRIPTION:W programie koncertu Orkiestry Filharmonii Narodowej pod dyrekcją Andrzeja Boreyki i z udziałem Krzysztofa Jabłońskiego znalazły się dzieła dwóch kompozytorów epoki romantyzmu. Usłyszymy oryginalną\, rzadko grywaną wersję jednego z najpopularniejszych koncertów fortepianowych oraz symfonię określaną czasem mianem dziesiątej symfonii Beethovena. \nWykonawcy:\nAndrzej Boreyko – dyrygent\nKrzysztof Jabłoński – fortepian\nOrkiestra Filharmonii Narodowej \nProgram:\nP. Czajkowski I Koncert fortepianowy b-moll op. 23 (wersja oryginalna)\nJ. Brahms I Symfonia c-moll op. 68
URL:https://wroclaw-info.pl/wydarzenie/andrzej-boreyko-i-orkiestra-filharmonii-narodowej/
LOCATION:Narodowe Forum Muzyki\, plac Wolności 1\, Wrocław
CATEGORIES:Koncert
ATTACH;FMTTYPE=image/png:https://wroclaw-info.pl/wp-content/uploads/2021/10/Projekt-bez-tytulu.png
END:VEVENT
BEGIN:VEVENT
DTSTART;TZID=UTC:20211014T200000
DTEND;TZID=UTC:20211014T220000
DTSTAMP:20260424T160524
CREATED:20211013T202848Z
LAST-MODIFIED:20211013T202848Z
UID:1154-1634241600-1634248800@wroclaw-info.pl
SUMMARY:Świetliki - koncert
DESCRIPTION:ŚWIETLIKI – zespół (kiedyś) młodzieżowy o profilu słowno-muzycznym. Założony przez Marcina Świetlickiego i członków zespołu Trupa Wertera Utrata w 1992 roku w Krakowie.
URL:https://wroclaw-info.pl/wydarzenie/swietliki-koncert/
LOCATION:Stary Klasztor\, Purkyniego 1\, Wrocław
CATEGORIES:Koncert
ATTACH;FMTTYPE=image/jpeg:https://wroclaw-info.pl/wp-content/uploads/2021/10/8z5f.jpeg
END:VEVENT
END:VCALENDAR