BEGIN:VCALENDAR
VERSION:2.0
PRODID:-//Centrum Informacji Turystycznej - ECPv6.2.9//NONSGML v1.0//EN
CALSCALE:GREGORIAN
METHOD:PUBLISH
X-WR-CALNAME:Centrum Informacji Turystycznej
X-ORIGINAL-URL:https://wroclaw-info.pl
X-WR-CALDESC:Events for Centrum Informacji Turystycznej
REFRESH-INTERVAL;VALUE=DURATION:PT1H
X-Robots-Tag:noindex
X-PUBLISHED-TTL:PT1H
BEGIN:VTIMEZONE
TZID:UTC
BEGIN:STANDARD
TZOFFSETFROM:+0000
TZOFFSETTO:+0000
TZNAME:UTC
DTSTART:20210101T000000
END:STANDARD
END:VTIMEZONE
BEGIN:VEVENT
DTSTART;TZID=UTC:20211015T183000
DTEND;TZID=UTC:20211015T203000
DTSTAMP:20260424T105817
CREATED:20211013T203355Z
LAST-MODIFIED:20211013T205706Z
UID:1157-1634322600-1634329800@wroclaw-info.pl
SUMMARY:SLAVS AND TATARS. LONG LVIVE LVIV. - Wystawa
DESCRIPTION:Wernisaż: 15.10.2021 r.\, 18:30\nCzas trwania wystawy: 16.10.2021–30.01.2022 r.\n\nNiewątpliwie losy Lwowa i Wrocławia są ze sobą splecione. Nie tylko dlatego\, że obydwa miasta mają niełatwą\, przesiedleńczą historię\, ale również dlatego\, że dla wielu stały się domami utraconymi i na nowo odnalezionymi. Przeszłość ta\, która poprzez aktualne ruchy migracyjne\, ma de facto swoją kontynuację w teraźniejszości\, leży u podstaw koncepcji wystawy pt. „LONG LVIVE LVIV. СЛАВА ЗА БРЕСЛАВА”. Krzywdzącym jednak byłoby stwierdzenie\, że jedynie przeszłość repatriacyjna stanowi tu klucz do zrozumienia intencji artystów – jest nim także\, a może i przede wszystkim\, bogata spuścizna naukowa przedwojennej szkoły lwowskiej\, w tym – w szczególności – wyjątkowej i wiodącej w ówczesnej Europie Wschodniej\, Katedry Orientalistyki. \nTło do stworzonej przez Slavs and Tatars opowieści\, stanowi autorski wybór kobierców wschodnich\, który pochodzi z wyjątkowej kolekcji Rodziny Kulczyckich. Dzięki uprzejmości Muzeum Tatrzańskiego im. Dra. Tytusa Chałubińskiego w Zakopanem\, w OP ENHEIM zawiśnie fragment zbioru\, który po raz pierwszy zaprezentowany zostanie w odmiennym kontekście\, niż muzealny\, przybierając formę wystawy sztuki najnowszej […].
URL:https://wroclaw-info.pl/wydarzenie/lavs-and-tatars-long-lvive-lviv-wystawa/
LOCATION:OP ENHEIM\, Plac Solny 4\, Wrocław
CATEGORIES:Wystawa
ATTACH;FMTTYPE=image/png:https://wroclaw-info.pl/wp-content/uploads/2021/10/8y9w.png
END:VEVENT
END:VCALENDAR