BEGIN:VCALENDAR
VERSION:2.0
PRODID:-//Centrum Informacji Turystycznej - ECPv6.2.9//NONSGML v1.0//EN
CALSCALE:GREGORIAN
METHOD:PUBLISH
X-ORIGINAL-URL:https://wroclaw-info.pl
X-WR-CALDESC:Events for Centrum Informacji Turystycznej
REFRESH-INTERVAL;VALUE=DURATION:PT1H
X-Robots-Tag:noindex
X-PUBLISHED-TTL:PT1H
BEGIN:VTIMEZONE
TZID:UTC
BEGIN:STANDARD
TZOFFSETFROM:+0000
TZOFFSETTO:+0000
TZNAME:UTC
DTSTART:20210101T000000
END:STANDARD
END:VTIMEZONE
BEGIN:VEVENT
DTSTART;TZID=UTC:20211020T170000
DTEND;TZID=UTC:20211020T180000
DTSTAMP:20260424T212805
CREATED:20211013T210340Z
LAST-MODIFIED:20211013T210340Z
UID:1182-1634749200-1634752800@wroclaw-info.pl
SUMMARY:WYSTAWA HYBRID-IN. Zwiedzanie z przewodnikiem
DESCRIPTION:ZAPISY: Na oprowadzania obowiązują zapisy na adres mailowy: a.kalinowska@bwa.wroc.pl. W tytule wiadomości prosimy wpisać „Oprowadzanie”\, a w treści maila datę i imię i nazwisko. \nWystawa sztuki z Czech\, Polski i Słowacji mówi o hybrydycznym obliczu współczesności na tle potransformacyjnego środkowoeuropejskiego krajobrazu. Pokaz skupia się na przemianach\, jakim podlegają dziś przestrzenie eksploatacji\, określane niegdyś jako przemysłowe. Tematem artystów są zachodzące w nich dziś procesy hybrydyzacji\, obejmujące zmiany\, które\, mimo że dotyczą wszystkich\, nie czynią świata bardziej zrozumiałym\, ani bardziej przejrzystym.
URL:https://wroclaw-info.pl/wydarzenie/wystawa-hybrid-in-zwiedzanie-z-przewodnikiem-2/
LOCATION:Dworzec Główny PKP\, Piłsudskiego 105\, Wrocław
CATEGORIES:Wystawa
ATTACH;FMTTYPE=image/png:https://wroclaw-info.pl/wp-content/uploads/2021/10/8zoh.png
END:VEVENT
BEGIN:VEVENT
DTSTART;TZID=UTC:20211020T190000
DTEND;TZID=UTC:20211020T210000
DTSTAMP:20260424T212805
CREATED:20211017T124515Z
LAST-MODIFIED:20211017T124515Z
UID:1225-1634756400-1634763600@wroclaw-info.pl
SUMMARY:Spektakl w Operze - "Wolny Strzelec"
DESCRIPTION:Wolny strzelec (Der Freischütz) to opera romantyczna w 3 aktach. Prapremiera odbyła się 200 lat temu 18 czerwca 1821 w Königliches Schauspielhaus w Berlinie. Dzieło jest uważane za pierwszą w historii niemiecką operę romantyczną\, choć zawarte jest w niej jeszcze sporo partii mówionych\, a skład orkiestry i muzyka są zakorzenione w klasycyzmie. Na uwagę jednak zasługuje sama tematyka – historia jest oparta na legendach i podaniach ludowych charakterystycznych dla rodzącego się romantyzmu.
URL:https://wroclaw-info.pl/wydarzenie/spektakl-w-operze-wolny-strzelec/
LOCATION:Opera\, Świdnicka 35\, Wrocław
END:VEVENT
END:VCALENDAR