BEGIN:VCALENDAR
VERSION:2.0
PRODID:-//Centrum Informacji Turystycznej - ECPv6.2.9//NONSGML v1.0//EN
CALSCALE:GREGORIAN
METHOD:PUBLISH
X-WR-CALNAME:Centrum Informacji Turystycznej
X-ORIGINAL-URL:https://wroclaw-info.pl
X-WR-CALDESC:Events for Centrum Informacji Turystycznej
REFRESH-INTERVAL;VALUE=DURATION:PT1H
X-Robots-Tag:noindex
X-PUBLISHED-TTL:PT1H
BEGIN:VTIMEZONE
TZID:UTC
BEGIN:STANDARD
TZOFFSETFROM:+0000
TZOFFSETTO:+0000
TZNAME:UTC
DTSTART:20210101T000000
END:STANDARD
END:VTIMEZONE
BEGIN:VEVENT
DTSTART;TZID=UTC:20211021T200000
DTEND;TZID=UTC:20211021T220000
DTSTAMP:20260424T072809
CREATED:20211017T115726Z
LAST-MODIFIED:20211017T115842Z
UID:1209-1634846400-1634853600@wroclaw-info.pl
SUMMARY:Koncert w VERTIGO JAZZ CLUB - Odbierz zaproszenie!
DESCRIPTION:Ladies’ of Blues by Paulina Jeżewska \nPodobno blues to „męska muzyka”… ale czy na pewno? Pamiętamy przecież o Bessie Smith\, Koko Taylor i wielu innych wokalistkach bluesowych. Zapraszamy na spotkanie z bluesem\, ale po tej lepszej\, bo damskiej stronie „niebieskich” dźwięków. \nPrzyjdź do Centrum Informacji Turystycznej Rynek 14 i odbierz zaproszenie na ten koncert!* \n*1 osoba może odebrać maksymalnie 2 zaproszenia. \nKoszt biletu bez zaproszenia: 30 zł. \n 
URL:https://wroclaw-info.pl/wydarzenie/koncert-w-vertigo-jazz-club-odbierz-zaproszenie/
LOCATION:Vertigo Jazz Club\, Oławska 13\, Wrocław
CATEGORIES:Koncert
ATTACH;FMTTYPE=image/png:https://wroclaw-info.pl/wp-content/uploads/2021/10/Vertigo2.png
END:VEVENT
END:VCALENDAR