BEGIN:VCALENDAR
VERSION:2.0
PRODID:-//Centrum Informacji Turystycznej - ECPv6.2.9//NONSGML v1.0//EN
CALSCALE:GREGORIAN
METHOD:PUBLISH
X-ORIGINAL-URL:https://wroclaw-info.pl
X-WR-CALDESC:Events for Centrum Informacji Turystycznej
REFRESH-INTERVAL;VALUE=DURATION:PT1H
X-Robots-Tag:noindex
X-PUBLISHED-TTL:PT1H
BEGIN:VTIMEZONE
TZID:UTC
BEGIN:STANDARD
TZOFFSETFROM:+0000
TZOFFSETTO:+0000
TZNAME:UTC
DTSTART:20210101T000000
END:STANDARD
END:VTIMEZONE
BEGIN:VEVENT
DTSTART;TZID=UTC:20211024T110000
DTEND;TZID=UTC:20211024T180000
DTSTAMP:20260424T143716
CREATED:20211013T211303Z
LAST-MODIFIED:20211013T211303Z
UID:1192-1635073200-1635098400@wroclaw-info.pl
SUMMARY:Festiwal Słodko-Gorzko - festiwal słodkości\, czekolady i kawy
DESCRIPTION:Zapraszamy na Festiwal słodkości\, kawy i czekolady Słodko Gorzko\, pełny niecodziennych smaków i kuszących zapachów. Będzie pysznie i bardzo kolorowo!\nAromat świeżo palonej\, najlepszej kawy\, pobudzi Wasze zmysły ciała i ducha.\nWyborne rarytasy\, słodkości\, ciastka\, babeczki\, czekolady i czekoladki. A to wszystko z najlepszych\, rzemieślniczych manufaktur.\nPoza Słodko Gorzko pojawią się również:\n– Dzika Uczta – zlot food trucków i restauracji\,\n– Fashion Meeting – targi mody autorskiej i wzornictwa\,\n– Natural Beauty – targi kosmetyków naturalnych\,\n– Zielono Mi – targi roślin\, kwiatów i dekoracji.
URL:https://wroclaw-info.pl/wydarzenie/festiwal-slodko-gorzko-festiwal-slodkosci-czekolady-i-kawy-2/
LOCATION:Czasoprzestrzeń\, Tramwajowa 1-3\, Wrocław
CATEGORIES:Festiwal
ATTACH;FMTTYPE=image/jpeg:https://wroclaw-info.pl/wp-content/uploads/2021/10/241752039_383220206523186_4203325160279756216_n.jpg
END:VEVENT
BEGIN:VEVENT
DTSTART;TZID=UTC:20211024T180000
DTEND;TZID=UTC:20211024T200000
DTSTAMP:20260424T143716
CREATED:20211017T093459Z
LAST-MODIFIED:20211017T093459Z
UID:1202-1635098400-1635105600@wroclaw-info.pl
SUMMARY:Koncert muzyki cerkiewnej
DESCRIPTION:Koncert Chóru Kameralnego Cantores Minores Wratislavienses pod kierownictwem Piotra Karpety w Kościele Uniwersyteckim.
URL:https://wroclaw-info.pl/wydarzenie/koncert-muzyki-cerkiewnej/
LOCATION:Kościół Uniwersytecki\, pl. Uniwersytecki 1\, Wrocław\, Poland
CATEGORIES:Koncert
ATTACH;FMTTYPE=image/png:https://wroclaw-info.pl/wp-content/uploads/2021/10/Koncert-Muzyki-Cerkiewnej.png
END:VEVENT
BEGIN:VEVENT
DTSTART;TZID=UTC:20211024T200000
DTEND;TZID=UTC:20211024T210000
DTSTAMP:20260424T143716
CREATED:20211013T210241Z
LAST-MODIFIED:20211013T210241Z
UID:1180-1635105600-1635109200@wroclaw-info.pl
SUMMARY:Recitale Operowe - Katedra św. Marii Magdaleny
DESCRIPTION:Zapraszamy na cykl wyjątkowych recitali operowych\, które odbywają się w każdą sobotę i niedzielę w Katedrze Marii Magdaleny we Wrocławiu o godz. 20.00.\nNasze koncerty to wyjątkowe połączenie muzyki operowej\, filmowej i musicalowej. Podczas koncertów\, sopranistka Anna Ciereszko (zrzeszona we włoskim stowarzyszeniu kulturalnym Associazione culturale “Opera da Camera di Roma”) przy akompaniamencie fortepianu zaprezentują zarówno najpiękniejsze i uwielbiane przez publiczność arie operowe (…)
URL:https://wroclaw-info.pl/wydarzenie/recitale-operowe-katedra-sw-marii-magdaleny-3/
LOCATION:Katedra pw. św. Marii Magdaleny\, Szewska 10\, Wrocław
CATEGORIES:Koncert
ATTACH;FMTTYPE=image/jpeg:https://wroclaw-info.pl/wp-content/uploads/2021/10/8vf3.jpeg
END:VEVENT
BEGIN:VEVENT
DTSTART;TZID=UTC:20211025T180000
DTEND;TZID=UTC:20211025T203000
DTSTAMP:20260424T143716
CREATED:20211017T094412Z
LAST-MODIFIED:20211017T094412Z
UID:1206-1635184800-1635193800@wroclaw-info.pl
SUMMARY:Wędrujący Koncert 4 Wyznań
DESCRIPTION:Koncert 4 wyznań składa się z czterech części:\n1. Śpiew w Katedrze Prawosławnej pw. Narodzenia Przenajświętszej Bogarodzicy we Wrocławiu (chór Oktoich)\, godz. 18:00\, ul. św. Mikołaja 40\n2. Śpiew w Kościele św. Antoniego z Padwy we Wrocławiu (chór Cantores Minores Wratislavienses)\, godz. 18:40\, ul. św. Antoniego 30\n3. Śpiew w Synagodze pod Białym Bocianem we Wrocławiu (chóry Synagogi pod Białym Bocianem)\, godz. 19:15\, ul. Włodkowica 7\n4. Śpiew w Ewangelickim Kościele Opatrzności Bożej we Wrocławiu (chór Cantores Minores Wratislavienses)\, godz. 20:00\, ul. Kazimierza Wielkiego 29 \nPubliczność wędruje przez poszczególne świątynie\, wysłuchując koncertów\, począwszy od Katedry Prawosławnej (godz. 18:00). \n 
URL:https://wroclaw-info.pl/wydarzenie/wedrujacy-koncert-4-wyznan/
CATEGORIES:Koncert
ATTACH;FMTTYPE=image/png:https://wroclaw-info.pl/wp-content/uploads/2021/10/Koncert-Muzyki-Cerkiewnej-1.png
END:VEVENT
BEGIN:VEVENT
DTSTART;TZID=UTC:20211027T170000
DTEND;TZID=UTC:20211027T180000
DTSTAMP:20260424T143716
CREATED:20211017T161432Z
LAST-MODIFIED:20211017T161432Z
UID:1228-1635354000-1635357600@wroclaw-info.pl
SUMMARY:WYSTAWA HYBRID-IN. Zwiedzanie z przewodnikiem Galerii BWA
DESCRIPTION:ZAPISY: Na oprowadzania obowiązują zapisy na adres mailowy: a.kalinowska@bwa.wroc.pl. W tytule wiadomości prosimy wpisać „Oprowadzanie”\, a w treści maila datę i imię i nazwisko. \nWystawa sztuki z Czech\, Polski i Słowacji mówi o hybrydycznym obliczu współczesności na tle potransformacyjnego środkowoeuropejskiego krajobrazu. Pokaz skupia się na przemianach\, jakim podlegają dziś przestrzenie eksploatacji\, określane niegdyś jako przemysłowe. Tematem artystów są zachodzące w nich dziś procesy hybrydyzacji\, obejmujące zmiany\, które\, mimo że dotyczą wszystkich\, nie czynią świata bardziej zrozumiałym\, ani bardziej przejrzystym.
URL:https://wroclaw-info.pl/wydarzenie/wystawa-hybrid-in-zwiedzanie-z-przewodnikiem-galerii-bwa/
LOCATION:Dworzec Główny PKP\, Piłsudskiego 105\, Wrocław
CATEGORIES:Wystawa
ATTACH;FMTTYPE=image/png:https://wroclaw-info.pl/wp-content/uploads/2021/10/8zoh.png
END:VEVENT
BEGIN:VEVENT
DTSTART;TZID=UTC:20211028T200000
DTEND;TZID=UTC:20211028T220000
DTSTAMP:20260424T143716
CREATED:20211017T123857Z
LAST-MODIFIED:20211017T123857Z
UID:1221-1635451200-1635458400@wroclaw-info.pl
SUMMARY:Koncert w VERTIGO JAZZ CLUB - Odbierz zaproszenie!
DESCRIPTION:J.J Trio & Natalia Szczypuła \nZapraszamy na bluesowy czwartek do Vertigo\, podczas którego na naszej scenie wystąpią muzycy z J.J.Band – Jacek Jaguś\, Bartek Niebielecki i Andrzej Stagraczyński. Na ten jeden wyjątkowy koncert\, Panowie zaprosili do współpracy Natalię Szczypułę\, wokalistkę którą doskonale znacie Państwo z występów Vertigo Band czy jej solowych projektów. Połączenie klasycznych bluesowych dźwięków ze wspaniałym soulowym wokalem Natalii\, gwarantuje Państwu niezapomniany wieczór w Vertigo. \nPrzyjdź do Centrum Informacji Turystycznej Rynek 14 i odbierz zaproszenie na ten koncert!* \n*1 osoba może odebrać maksymalnie 2 zaproszenia. \nKoszt biletu bez zaproszenia: 40 zł.
URL:https://wroclaw-info.pl/wydarzenie/koncert-w-vertigo-jazz-club-odbierz-zaproszenie-4/
LOCATION:Vertigo Jazz Club\, Oławska 13\, Wrocław
CATEGORIES:Koncert
ATTACH;FMTTYPE=image/png:https://wroclaw-info.pl/wp-content/uploads/2021/10/Vertigo2.png
END:VEVENT
BEGIN:VEVENT
DTSTART;TZID=UTC:20211030T000000
DTEND;TZID=UTC:20211030T130000
DTSTAMP:20260424T143716
CREATED:20211013T204743Z
LAST-MODIFIED:20211013T204743Z
UID:1172-1635552000-1635598800@wroclaw-info.pl
SUMMARY:Spacer śladami Różewicza z Centrum Kultury Agora
DESCRIPTION:Trzy spacery śladami Tadeusza Różewicza\, który we Wrocławiu mieszkał od końca lat 60-tych do 2014 roku. W liście do zaprzyjaźnionego literaturoznawcy prof. Ryszarda Przybylskiego poeta pisał\, że woli chodzić do zoo niż do kawiarni SPATiF-u. A więc i my ominiemy kawiarnie (poza jedną)\, za to obejrzymy ogród\, wyspę\, muzea\, pomniki\, teatr\, uniwersytet\, kościół i kamienice. W każdym z nich Tadeusz Różewicz przebywał\, a o części z nich wspomniał w wierszach. Spacery inspirowane pamięcią miejsc Tadeusza Różewicza będą prowadzone przez dokumentalistów z wrocławskiego Muzeum Pana Tadeusza – Marię Marszałek i Marcina Szyjkę. Otwarte dla publiczności i pozwolą rozszerzać horyzonty twórczości poety i zbliżyć się w sposób realny do jego twórczości.
URL:https://wroclaw-info.pl/wydarzenie/spacer-sladami-rozewicza-z-centrum-kultury-agora-2/
LOCATION:Muzeum Pana Tadeusza\, Rynek 6\, Wrocław
ATTACH;FMTTYPE=image/jpeg:https://wroclaw-info.pl/wp-content/uploads/2021/10/8zce.jpeg
END:VEVENT
BEGIN:VEVENT
DTSTART;TZID=UTC:20211030T200000
DTEND;TZID=UTC:20211030T220000
DTSTAMP:20260424T143716
CREATED:20211017T124148Z
LAST-MODIFIED:20211017T124148Z
UID:1223-1635624000-1635631200@wroclaw-info.pl
SUMMARY:Koncert w VERTIGO JAZZ CLUB - Odbierz zaproszenie!
DESCRIPTION:Girls On Fire \nStandardy oraz współczesne hity muzyki pop w stylu gipsy swing. Utwory wykonywane na trzy głosy inspirowane zespołami Andrew Sisters\, Pupin Sisters. Na scenie charyzmatyczne wokalistki\, zwyciężczynie Opolskich Debiutów\, Girls on Fire\, w towarzystwie znakomitych wrocławskich muzyków. Niesamowita energia artystów i oryginalne aranżacje sprawią\, że to będzie niezapomniany wieczór. \nPrzyjdź do Centrum Informacji Turystycznej Rynek 14 i odbierz zaproszenie na ten koncert!* \n*1 osoba może odebrać maksymalnie 2 zaproszenia. \nKoszt biletu bez zaproszenia: 30 zł.
URL:https://wroclaw-info.pl/wydarzenie/koncert-w-vertigo-jazz-club-odbierz-zaproszenie-5/
LOCATION:Vertigo Jazz Club\, Oławska 13\, Wrocław
CATEGORIES:Koncert
ATTACH;FMTTYPE=image/png:https://wroclaw-info.pl/wp-content/uploads/2021/10/Vertigo2.png
END:VEVENT
END:VCALENDAR