BEGIN:VCALENDAR
VERSION:2.0
PRODID:-//Centrum Informacji Turystycznej - ECPv6.2.9//NONSGML v1.0//EN
CALSCALE:GREGORIAN
METHOD:PUBLISH
X-ORIGINAL-URL:https://wroclaw-info.pl
X-WR-CALDESC:Events for Centrum Informacji Turystycznej
REFRESH-INTERVAL;VALUE=DURATION:PT1H
X-Robots-Tag:noindex
X-PUBLISHED-TTL:PT1H
BEGIN:VTIMEZONE
TZID:UTC
BEGIN:STANDARD
TZOFFSETFROM:+0000
TZOFFSETTO:+0000
TZNAME:UTC
DTSTART:20210101T000000
END:STANDARD
END:VTIMEZONE
BEGIN:VEVENT
DTSTART;TZID=UTC:20210922T080000
DTEND;TZID=UTC:20210922T170000
DTSTAMP:20260424T073951
CREATED:20210921T143618Z
LAST-MODIFIED:20210921T143736Z
UID:1075-1632297600-1632330000@wroclaw-info.pl
SUMMARY:Testowe Wydarzenie
DESCRIPTION:Tekst
URL:https://wroclaw-info.pl/wydarzenie/testowe-wydarzenie/
LOCATION:Super\, Rynek\, Wrocław\, Poland
ATTACH;FMTTYPE=image/jpeg:https://wroclaw-info.pl/wp-content/uploads/2021/07/krasnal-wroclawski.jpg
END:VEVENT
END:VCALENDAR